BEGIN:VCALENDAR
VERSION:2.0
PRODID:-//Plone.org//NONSGML plone.app.event//EN
X-WR-TIMEZONE:Europe/Berlin
BEGIN:VEVENT
SUMMARY:MATERIALITÄT\, MEDIALITÄT UND KULTURELLES GEDÄCHTNIS
DTSTART;TZID=Europe/Berlin:20131030T180000
DTEND;TZID=Europe/Berlin:20140212T200000
DTSTAMP:20260425T154043Z
UID:4b0ac3a7ad8f4979925d0f1847264caa@www.uni-marburg.de
CREATED:20180820T093615Z
DESCRIPTION:https://www.uni-marburg.de/de/fotomarburg/aktuelles/termine/ma
 terialitaet-medialitaet-und-kulturelles-gedaechtnis\n
LAST-MODIFIED:20180820T093618Z
LOCATION:Hörsaal des Kunstgeschichtlichen Instituts der Philipps-Universi
 tät Marburg (Ernst-von-Hülsen-Haus\, Biegenstr. 11\, 35037 Marburg)
URL:https://www.uni-marburg.de/de/fotomarburg/aktuelles/termine/materialit
 aet-medialitaet-und-kulturelles-gedaechtnis
END:VEVENT
BEGIN:VTIMEZONE
TZID:Europe/Berlin
X-LIC-LOCATION:Europe/Berlin
BEGIN:STANDARD
DTSTART:20131027T020000
TZNAME:CET
TZOFFSETFROM:+0200
TZOFFSETTO:+0100
END:STANDARD
END:VTIMEZONE
END:VCALENDAR
