BEGIN:VCALENDAR
VERSION:2.0
PRODID:-//Plone.org//NONSGML plone.app.event//EN
X-WR-TIMEZONE:Europe/Berlin
BEGIN:VEVENT
SUMMARY:Mediale Transformationen des Visuellen
DTSTART;TZID=Europe/Berlin:20090624T163000
DTEND;TZID=Europe/Berlin:20090624T193000
DTSTAMP:20260424T223100Z
UID:129f0ec4042142719ff35b0b766a9e4e@www.uni-marburg.de
CREATED:20180821T085304Z
DESCRIPTION:https://www.uni-marburg.de/de/fotomarburg/aktuelles/termine/me
 diale-transformationen-des-visuellen-1\nNach Köln. Kunstgeschichte in den
  Archiven
LAST-MODIFIED:20180821T085306Z
LOCATION:Ernst-von-Hülsen-Haus\, Biegenstraße 11\, 35037 Marburg\, Tagun
 gsraum
URL:https://www.uni-marburg.de/de/fotomarburg/aktuelles/termine/mediale-tr
 ansformationen-des-visuellen-1
END:VEVENT
BEGIN:VTIMEZONE
TZID:Europe/Berlin
X-LIC-LOCATION:Europe/Berlin
BEGIN:DAYLIGHT
DTSTART:20090329T030000
TZNAME:CEST
TZOFFSETFROM:+0100
TZOFFSETTO:+0200
END:DAYLIGHT
END:VTIMEZONE
END:VCALENDAR
