BEGIN:VCALENDAR
VERSION:2.0
PRODID:-//Plone.org//NONSGML plone.app.event//EN
X-WR-TIMEZONE:Europe/Berlin
BEGIN:VEVENT
SUMMARY:Mediale Transformationen des Visuellen
DTSTART;TZID=Europe/Berlin:20081022T163000
DTEND;TZID=Europe/Berlin:20081022T210000
DTSTAMP:20260425T001111Z
UID:6e5eb666c66d4d909f3ebf2a27f19ce1@www.uni-marburg.de
ATTENDEE;CN="Hubert Locher, Stefanie Klamm, Julica Hiller Norouzi, Lena Ba
 der, Anke te Heesen";ROLE=REQ-PARTICIPANT:Hubert Locher, Stefanie Klamm, J
 ulica Hiller Norouzi, Lena Bader, Anke te Heesen
CREATED:20180821T092719Z
DESCRIPTION:https://www.uni-marburg.de/de/fotomarburg/aktuelles/termine/me
 diale-transformationen-des-visuellen-2\nVisuelle Medien und die Ordnungen 
 des Ähnlichen
LAST-MODIFIED:20180821T092720Z
LOCATION:Ernst von Hülsen Haus\, Biegenstraße 11\, 35037 Marburg\, Tagun
 gsraum und Hörsaal
URL:https://www.uni-marburg.de/de/fotomarburg/aktuelles/termine/mediale-tr
 ansformationen-des-visuellen-2
END:VEVENT
BEGIN:VTIMEZONE
TZID:Europe/Berlin
X-LIC-LOCATION:Europe/Berlin
BEGIN:DAYLIGHT
DTSTART:20080330T030000
TZNAME:CEST
TZOFFSETFROM:+0100
TZOFFSETTO:+0200
END:DAYLIGHT
END:VTIMEZONE
END:VCALENDAR
