BEGIN:VCALENDAR
VERSION:2.0
PRODID:-//Plone.org//NONSGML plone.app.event//EN
X-WR-TIMEZONE:Europe/Berlin
BEGIN:VEVENT
SUMMARY:Mediale Transformationen des Visuellen
DTSTART;TZID=Europe/Berlin:20091103T163000
DTEND;TZID=Europe/Berlin:20091103T193000
DTSTAMP:20260425T003113Z
UID:a598918b6d0a40d68a0aeb87e68776eb@www.uni-marburg.de
ATTENDEE;CN="Daniela Bamberger, Patrick Danowski, Oliver Sander";ROLE=REQ-
 PARTICIPANT:Daniela Bamberger, Patrick Danowski, Oliver Sander
CREATED:20180821T084751Z
DESCRIPTION:https://www.uni-marburg.de/de/fotomarburg/aktuelles/termine/me
 diale-transformationen-des-visuellen\nWeb 2.0 für Gedächtnisinstitutione
 n
LAST-MODIFIED:20180821T084753Z
LOCATION:Ernst von Hülsen Haus\, Biegenstraße 11\, 35037 Marburg\, Tagun
 gsraum
URL:https://www.uni-marburg.de/de/fotomarburg/aktuelles/termine/mediale-tr
 ansformationen-des-visuellen
END:VEVENT
BEGIN:VTIMEZONE
TZID:Europe/Berlin
X-LIC-LOCATION:Europe/Berlin
BEGIN:STANDARD
DTSTART:20091025T020000
TZNAME:CET
TZOFFSETFROM:+0200
TZOFFSETTO:+0100
END:STANDARD
END:VTIMEZONE
END:VCALENDAR
