BEGIN:VCALENDAR
VERSION:2.0
PRODID:-//Plone.org//NONSGML plone.app.event//EN
X-WR-TIMEZONE:Europe/Berlin
BEGIN:VEVENT
SUMMARY:Mediale Transformationen: Kanon der Kunstdenkmäler
DTSTART;TZID=Europe/Berlin:20180821T163000
DTEND;TZID=Europe/Berlin:20180821T193000
DTSTAMP:20260424T223050Z
UID:a3c6898de34f4942b784c700fc8debc2@www.uni-marburg.de
ATTENDEE;CN="Hubert Locher, Katharina Krause, Lena Bader, Jörg Probst (Ma
 rburg), Michael Buchkremer, Christian Bracht (Marburg), Uta Kaiser (Dresde
 n)";ROLE=REQ-PARTICIPANT:Hubert Locher, Katharina Krause, Lena Bader, Jör
 g Probst (Marburg), Michael Buchkremer, Christian Bracht (Marburg), Uta Ka
 iser (Dresden)
CREATED:20180821T090537Z
DESCRIPTION:https://www.uni-marburg.de/de/fotomarburg/aktuelles/termine/me
 diale-transformationen-kanon-der-kunstdenkmaeler\nVisuelle Transformatione
 n – Der Kanon der Kunstdenkmäler im medialen Repräsentationsprozess
LAST-MODIFIED:20180821T090537Z
LOCATION:Ernst von Hülsen Haus\, Biegenstraße 11\, 35037 Marburg\,Tagung
 sraum
URL:https://www.uni-marburg.de/de/fotomarburg/aktuelles/termine/mediale-tr
 ansformationen-kanon-der-kunstdenkmaeler
END:VEVENT
BEGIN:VTIMEZONE
TZID:Europe/Berlin
X-LIC-LOCATION:Europe/Berlin
BEGIN:DAYLIGHT
DTSTART:20180325T030000
TZNAME:CEST
TZOFFSETFROM:+0100
TZOFFSETTO:+0200
END:DAYLIGHT
END:VTIMEZONE
END:VCALENDAR
