BEGIN:VCALENDAR
VERSION:2.0
PRODID:-//Plone.org//NONSGML plone.app.event//EN
X-WR-TIMEZONE:Europe/Berlin
BEGIN:VEVENT
SUMMARY:Mediale Transformationen: Mittelalterrezeption
DTSTART;TZID=Europe/Berlin:20081217T163000
DTEND;TZID=Europe/Berlin:20081217T193000
DTSTAMP:20260425T014600Z
UID:768acd93ca314b799a4432f8c1301689@www.uni-marburg.de
ATTENDEE;CN="Arwed Arnulf, Bernd Carqué";ROLE=REQ-PARTICIPANT:Arwed Arnul
 f, Bernd Carqué
CREATED:20180821T090838Z
DESCRIPTION:https://www.uni-marburg.de/de/fotomarburg/aktuelles/termine/me
 diale-transformationen-mittelalterrezeption\nPraktiken und Medien der Mitt
 elalterrezeption in Neuzeit und Moderne
LAST-MODIFIED:20180821T090839Z
LOCATION:Ernst von Hülsen Haus\, Biegenstraße 11\, 35037 Marburg\,Tagung
 sraum
URL:https://www.uni-marburg.de/de/fotomarburg/aktuelles/termine/mediale-tr
 ansformationen-mittelalterrezeption
END:VEVENT
BEGIN:VTIMEZONE
TZID:Europe/Berlin
X-LIC-LOCATION:Europe/Berlin
BEGIN:STANDARD
DTSTART:20081026T020000
TZNAME:CET
TZOFFSETFROM:+0200
TZOFFSETTO:+0100
END:STANDARD
END:VTIMEZONE
END:VCALENDAR
