BEGIN:VCALENDAR
VERSION:2.0
PRODID:-//Plone.org//NONSGML plone.app.event//EN
X-WR-TIMEZONE:Europe/Berlin
BEGIN:VEVENT
SUMMARY:Mediale Transformationen: Richard Hamann
DTSTART;TZID=Europe/Berlin:20081119T163000
DTEND;TZID=Europe/Berlin:20081119T183000
DTSTAMP:20260425T000930Z
UID:8508a81e29b7418cba89ee4d8e5d561a@www.uni-marburg.de
ATTENDEE;CN="Agnes Tieze, Angela Matyssek, Christoph Otterbeck";ROLE=REQ-P
 ARTICIPANT:Agnes Tieze, Angela Matyssek, Christoph Otterbeck
CREATED:20180821T091208Z
DESCRIPTION:https://www.uni-marburg.de/de/fotomarburg/aktuelles/termine/me
 diale-transformationen-richard-hamann\nRichard Hamann als Bildersammler
LAST-MODIFIED:20180821T091210Z
LOCATION:Ernst von Hülsen Haus\, Biegenstraße 11\, 35037 Marburg\,Tagung
 sraum
URL:https://www.uni-marburg.de/de/fotomarburg/aktuelles/termine/mediale-tr
 ansformationen-richard-hamann
END:VEVENT
BEGIN:VTIMEZONE
TZID:Europe/Berlin
X-LIC-LOCATION:Europe/Berlin
BEGIN:STANDARD
DTSTART:20081026T020000
TZNAME:CET
TZOFFSETFROM:+0200
TZOFFSETTO:+0100
END:STANDARD
END:VTIMEZONE
END:VCALENDAR
