BEGIN:VCALENDAR
VERSION:2.0
PRODID:-//Plone.org//NONSGML plone.app.event//EN
X-WR-TIMEZONE:Europe/Berlin
BEGIN:VEVENT
SUMMARY:Photography\, Writing\, Letterpress
DTSTART;TZID=Europe/Berlin:20190313T133000
DTEND;TZID=Europe/Berlin:20190314T143000
DTSTAMP:20260424T222906Z
UID:e254d87648fc41bfae3795e818ec3958@www.uni-marburg.de
CREATED:20190214T084312Z
DESCRIPTION:https://www.uni-marburg.de/de/fotomarburg/aktuelles/termine/ph
 otography-writing-letterpress\nInternational Workshop of the DFG Research 
 Unit »Journal Literature« and Deutsches Dokumentationszentrum für Kunst
 geschichte – Bildarchiv Foto Marburg
LAST-MODIFIED:20190214T095134Z
LOCATION:Philipps-Universität Marburg\, FB 04 | Psychologie »Dekanatssaa
 l« (R. 00019)\, Gutenbergstraße 18\, 35032 Marburg
URL:https://www.uni-marburg.de/de/fotomarburg/aktuelles/termine/photograph
 y-writing-letterpress
END:VEVENT
BEGIN:VTIMEZONE
TZID:Europe/Berlin
X-LIC-LOCATION:Europe/Berlin
BEGIN:STANDARD
DTSTART:20181028T020000
TZNAME:CET
TZOFFSETFROM:+0200
TZOFFSETTO:+0100
END:STANDARD
END:VTIMEZONE
END:VCALENDAR
