BEGIN:VCALENDAR
VERSION:2.0
PRODID:-//Plone.org//NONSGML plone.app.event//EN
X-WR-TIMEZONE:Europe/Berlin
BEGIN:VEVENT
SUMMARY:Reinhart Koselleck (1923–2006) Politische Ikonologie
DTSTART;TZID=Europe/Berlin:20101118T140000
DTEND;TZID=Europe/Berlin:20101120T140000
DTSTAMP:20260426T021530Z
UID:f3a4f259612b456abb6ce8851fc4b5bb@www.uni-marburg.de
ATTENDEE;CN="Hubert Locher, Frank Druffner, Adriana Markantonatos, Dietric
 h Schubert, Christian Bracht, Simone Derix, Andreas Dörner, Michael Diers
 , Godehard Janzing, Barbara Stollberg-Rilinger, Ulrich Hägele, Bettina Br
 andt, Barbara Klemm, Ulrich Raulff, Marcel Lepper, Daniela Bohde, Jost Phi
 lipp Klenner, Gerhard Paul, Jörg Probst, Ulfert Tschirner";ROLE=REQ-PARTI
 CIPANT:Hubert Locher, Frank Druffner, Adriana Markantonatos, Dietrich Schu
 bert, Christian Bracht, Simone Derix, Andreas Dörner, Michael Diers, Gode
 hard Janzing, Barbara Stollberg-Rilinger, Ulrich Hägele, Bettina Brandt, 
 Barbara Klemm, Ulrich Raulff, Marcel Lepper, Daniela Bohde, Jost Philipp K
 lenner, Gerhard Paul, Jörg Probst, Ulfert Tschirner
CREATED:20180821T075141Z
DESCRIPTION:https://www.uni-marburg.de/de/fotomarburg/aktuelles/termine/re
 inhart-koselleck-1923-2006-politische-ikonologie\nInterdisziplinäre Tagun
 g anlässlich der Übernahme des Nachlasses Reinhart Kosellecks durch das 
 Deutsche Literaturarchiv Marbach und das Deutsche Dokumentationszentrum f
 ür Kunstgeschichte – Bildarchiv Foto Marburg. Mit freundlicher Unterst
 ützung durch die Gerda-Henkel-Stiftung
LAST-MODIFIED:20180927T090534Z
LOCATION:Senatssaal (Erdgeschoss)\, Biegenstraße 12
URL:https://www.uni-marburg.de/de/fotomarburg/aktuelles/termine/reinhart-k
 oselleck-1923-2006-politische-ikonologie
END:VEVENT
BEGIN:VTIMEZONE
TZID:Europe/Berlin
X-LIC-LOCATION:Europe/Berlin
BEGIN:STANDARD
DTSTART:20101031T020000
TZNAME:CET
TZOFFSETFROM:+0200
TZOFFSETTO:+0100
END:STANDARD
END:VTIMEZONE
END:VCALENDAR
