BEGIN:VCALENDAR
VERSION:2.0
PRODID:-//Plone.org//NONSGML plone.app.event//EN
X-WR-TIMEZONE:Europe/Berlin
BEGIN:VEVENT
SUMMARY:Rezeptionen mittelalterlicher Kunst vor 1700
DTSTART;TZID=Europe/Berlin:20120119T143000
DTEND;TZID=Europe/Berlin:20120120T150000
DTSTAMP:20260424T223102Z
UID:ae1a2fe3cd314db9924f546e142d8a13@www.uni-marburg.de
ATTENDEE;CN="Arwed Arnulf, Else Schlegel, Inga Brinkmann, Lisa Vogel, Dian
 a Fleischer, Stephan Kemperdick, Xenia Stolzenburg, Michael Gromotka, Ingo
  Herklotz";ROLE=REQ-PARTICIPANT:Arwed Arnulf, Else Schlegel, Inga Brinkman
 n, Lisa Vogel, Diana Fleischer, Stephan Kemperdick, Xenia Stolzenburg, Mic
 hael Gromotka, Ingo Herklotz
CREATED:20180820T115433Z
DESCRIPTION:https://www.uni-marburg.de/de/fotomarburg/aktuelles/termine/re
 zeptionen-mittelalterlicher-kunst-vor-1700\nInszenierung\, funktionale Umd
 eutung und antiquarische Interpretation
LAST-MODIFIED:20180820T115512Z
LOCATION:Seminar- und Tagungsraum. Deutsches Dokumentationszentrum für Ku
 nstgeschichte – Bildarchiv Foto Marburg
URL:https://www.uni-marburg.de/de/fotomarburg/aktuelles/termine/rezeptione
 n-mittelalterlicher-kunst-vor-1700
END:VEVENT
BEGIN:VTIMEZONE
TZID:Europe/Berlin
X-LIC-LOCATION:Europe/Berlin
BEGIN:STANDARD
DTSTART:20111030T020000
TZNAME:CET
TZOFFSETFROM:+0200
TZOFFSETTO:+0100
END:STANDARD
END:VTIMEZONE
END:VCALENDAR
