BEGIN:VCALENDAR
VERSION:2.0
PRODID:-//Plone.org//NONSGML plone.app.event//EN
X-WR-TIMEZONE:Europe/Berlin
BEGIN:VEVENT
SUMMARY:Sprache und Topik populärer Kunstgeschichte
DTSTART;TZID=Europe/Berlin:20150417T133000
DTEND;TZID=Europe/Berlin:20150418T150000
DTSTAMP:20260424T223002Z
UID:e9fe74adb3bc44e3b0797303dde37ee4@www.uni-marburg.de
CREATED:20180712T085340Z
DESCRIPTION:https://www.uni-marburg.de/de/fotomarburg/aktuelles/termine/sp
 rache-und-topik-populaerer-kunstgeschichte\n
LAST-MODIFIED:20180806T093433Z
LOCATION:Museum für Gegenwartskunst Siegen Unteres Schloss 1· 57072 Sieg
 en· www.mgk-siegen.de
URL:https://www.uni-marburg.de/de/fotomarburg/aktuelles/termine/sprache-un
 d-topik-populaerer-kunstgeschichte
END:VEVENT
BEGIN:VTIMEZONE
TZID:Europe/Berlin
X-LIC-LOCATION:Europe/Berlin
BEGIN:DAYLIGHT
DTSTART:20150329T030000
TZNAME:CEST
TZOFFSETFROM:+0100
TZOFFSETTO:+0200
END:DAYLIGHT
END:VTIMEZONE
END:VCALENDAR
