BEGIN:VCALENDAR
VERSION:2.0
PRODID:-//Plone.org//NONSGML plone.app.event//EN
X-WR-TIMEZONE:Europe/Berlin
BEGIN:VEVENT
SUMMARY:Stillinien diagrammatischer Kunstgeschichtsschreibung
DTSTART;TZID=Europe/Berlin:20110401T110000
DTEND;TZID=Europe/Berlin:20110402T200000
DTSTAMP:20260424T223051Z
UID:0ce45e6a09ff4a818e3782e8500bec82@www.uni-marburg.de
CREATED:20180820T121051Z
DESCRIPTION:https://www.uni-marburg.de/de/fotomarburg/aktuelles/termine/st
 illinien-diagrammatischer-kunstgeschichtsschreibung\n
LAST-MODIFIED:20180820T121126Z
LOCATION:Humboldt-Universität zu Berlin\, Hermann von Helmholtz-Zentrum f
 ür Kulturtechnik\, Unter den Linden 6\, Raum 3031
URL:https://www.uni-marburg.de/de/fotomarburg/aktuelles/termine/stillinien
 -diagrammatischer-kunstgeschichtsschreibung
END:VEVENT
BEGIN:VTIMEZONE
TZID:Europe/Berlin
X-LIC-LOCATION:Europe/Berlin
BEGIN:DAYLIGHT
DTSTART:20110327T030000
TZNAME:CEST
TZOFFSETFROM:+0100
TZOFFSETTO:+0200
END:DAYLIGHT
END:VTIMEZONE
END:VCALENDAR
