BEGIN:VCALENDAR
VERSION:2.0
PRODID:-//Plone.org//NONSGML plone.app.event//EN
X-WR-TIMEZONE:Europe/Berlin
BEGIN:VEVENT
SUMMARY:"Transformationen des Visuellen"
DTSTART;TZID=Europe/Berlin:20100421T170000
DTEND;TZID=Europe/Berlin:20100421T200000
DTSTAMP:20260424T222956Z
UID:5cca87ebb19a45718e3a7d0bdb44936b@www.uni-marburg.de
CREATED:20180821T080942Z
DESCRIPTION:https://www.uni-marburg.de/de/fotomarburg/aktuelles/termine/tr
 ansformationen-des-visuellen\nStrukturiertes kultur- und medienwissenschaf
 tliches Promotionsprogramm der Philipps-Universität Marburg
LAST-MODIFIED:20180821T080943Z
LOCATION:Tagungs- und Seminarraum\, Ernst-von-Hülsen-Haus\, Biegenstr. 11
 \, Marburg
URL:https://www.uni-marburg.de/de/fotomarburg/aktuelles/termine/transforma
 tionen-des-visuellen
END:VEVENT
BEGIN:VTIMEZONE
TZID:Europe/Berlin
X-LIC-LOCATION:Europe/Berlin
BEGIN:DAYLIGHT
DTSTART:20100328T030000
TZNAME:CEST
TZOFFSETFROM:+0100
TZOFFSETTO:+0200
END:DAYLIGHT
END:VTIMEZONE
END:VCALENDAR
