BEGIN:VCALENDAR
VERSION:2.0
PRODID:-//Plone.org//NONSGML plone.app.event//EN
X-WR-TIMEZONE:Europe/Berlin
BEGIN:VEVENT
SUMMARY:Ästhetik und Medialität der Zeitschrift
DTSTART;TZID=Europe/Berlin:20180711T181500
DTEND;TZID=Europe/Berlin:20180711T210000
DTSTAMP:20260424T205443Z
UID:89d6033c4f0d4df1895dbcbe3525718a@www.uni-marburg.de
RRULE:FREQ=WEEKLY;COUNT=1;BYDAY=WE
RDATE;TZID=Europe/Berlin:20180509T181500,20180523T181500,20180627T181500
CREATED:20180711T093843Z
DESCRIPTION:https://www.uni-marburg.de/de/fotomarburg/aktuelles/termine/ze
 itschrift\nÖffentliche Vortragsreihe der Medien- und Kunstwissenschaft de
 r Philipps-Universität Marburg\, in Kooperation mit dem Deutschen Dokumen
 tationszentrum für Kunstgeschichte – Bildarchiv Foto Marburg und der DF
 G-Forschergruppe 2288\, ‚Journalliteratur: Formatbedingungen\, visuelles
  Design\, Rezeptionskulturen’.
LAST-MODIFIED:20180711T094440Z
LOCATION:Philipps-Universität Marburg\, Kunstgebäude\, Biegenstraße 11\
 , Hörsaal
URL:https://www.uni-marburg.de/de/fotomarburg/aktuelles/termine/zeitschrif
 t
END:VEVENT
BEGIN:VTIMEZONE
TZID:Europe/Berlin
X-LIC-LOCATION:Europe/Berlin
BEGIN:DAYLIGHT
DTSTART:20180325T030000
TZNAME:CEST
TZOFFSETFROM:+0100
TZOFFSETTO:+0200
END:DAYLIGHT
END:VTIMEZONE
END:VCALENDAR
