BEGIN:VCALENDAR
VERSION:2.0
PRODID:-//Plone.org//NONSGML plone.app.event//EN
X-WR-TIMEZONE:Europe/Berlin
BEGIN:VEVENT
SUMMARY:Zwischen den Medien – zeitgenössische Fotobücher
DTSTART;TZID=Europe/Berlin:20100519T141500
DTEND;TZID=Europe/Berlin:20100519T193000
DTSTAMP:20260425T133336Z
UID:f7f9e96f3251401896d12fa046e12019@www.uni-marburg.de
CREATED:20180821T075717Z
DESCRIPTION:https://www.uni-marburg.de/de/fotomarburg/aktuelles/termine/zw
 ischen-den-medien-zeitgenoessische-fotobuecher\nMediale Transformationen d
 es Visuellen
LAST-MODIFIED:20180821T075718Z
LOCATION:Ernst-von-Hülsen-Haus\, Biegenstraße 11\, 35037 Marburg\, Tagun
 gsraum
URL:https://www.uni-marburg.de/de/fotomarburg/aktuelles/termine/zwischen-d
 en-medien-zeitgenoessische-fotobuecher
END:VEVENT
BEGIN:VTIMEZONE
TZID:Europe/Berlin
X-LIC-LOCATION:Europe/Berlin
BEGIN:DAYLIGHT
DTSTART:20100328T030000
TZNAME:CEST
TZOFFSETFROM:+0100
TZOFFSETTO:+0200
END:DAYLIGHT
END:VTIMEZONE
END:VCALENDAR
