BEGIN:VCALENDAR
VERSION:2.0
PRODID:-//Plone.org//NONSGML plone.app.event//EN
X-WR-TIMEZONE:Europe/Berlin
BEGIN:VEVENT
SUMMARY:Maria 2.0 - die Macht der Ohnmächtigen. Die Selbstermächtigung v
 on Frauen in der katholischen Kirche
DTSTART;TZID=Europe/Berlin:20200617T200000
DTEND;TZID=Europe/Berlin:20200617T220000
DTSTAMP:20260426T012148Z
UID:8e46eb0b0348463c90381e3b831a6de3@www.uni-marburg.de
ATTENDEE;CN="Monika Schmelter ";ROLE=REQ-PARTICIPANT:Monika Schmelter 
CREATED:20200316T182131Z
DESCRIPTION:https://www.uni-marburg.de/de/genderzukunft/aktuelles/termine/
 interdisziplinaere-ringvorlesung-im-sommersemester-2020/maria-2-0-die-mach
 t-der-ohnmaechtigen-die-selbstermaechtigung-von-frauen-in-der-katholischen
 -kirche\nInterdisziplinäre Ringvorlesung. FRAUEN und MACHT
LAST-MODIFIED:20200525T082905Z
LOCATION:Livestream über BigBlueButton
URL:https://www.uni-marburg.de/de/genderzukunft/aktuelles/termine/interdis
 ziplinaere-ringvorlesung-im-sommersemester-2020/maria-2-0-die-macht-der-oh
 nmaechtigen-die-selbstermaechtigung-von-frauen-in-der-katholischen-kirche
END:VEVENT
BEGIN:VTIMEZONE
TZID:Europe/Berlin
X-LIC-LOCATION:Europe/Berlin
BEGIN:DAYLIGHT
DTSTART:20200329T030000
TZNAME:CEST
TZOFFSETFROM:+0100
TZOFFSETTO:+0200
END:DAYLIGHT
END:VTIMEZONE
END:VCALENDAR
