BEGIN:VCALENDAR
VERSION:2.0
PRODID:-//Plone.org//NONSGML plone.app.event//EN
X-WR-TIMEZONE:Europe/Berlin
BEGIN:VEVENT
SUMMARY:Mutterland und Vatersprache
DTSTART;TZID=Europe/Berlin:20200513T200000
DTEND;TZID=Europe/Berlin:20200513T220000
DTSTAMP:20260424T161911Z
UID:7863b7a9f4ca4a6f8e94906cb0b46fae@www.uni-marburg.de
ATTENDEE;CN="Prof. Dr. Helga Krüger-Kirn";ROLE=REQ-PARTICIPANT:Prof. Dr. 
 Helga Krüger-Kirn
ATTENDEE;CN=;ROLE=REQ-PARTICIPANT:
CREATED:20200316T180210Z
DESCRIPTION:https://www.uni-marburg.de/de/genderzukunft/aktuelles/termine/
 interdisziplinaere-ringvorlesung-im-sommersemester-2020/mutterland-und-vat
 ersprache\nInterdisziplinäre Ringvorlesung. FRAUEN und MACHT
LAST-MODIFIED:20200525T082505Z
LOCATION:Livestream über BigBlueButton
URL:https://www.uni-marburg.de/de/genderzukunft/aktuelles/termine/interdis
 ziplinaere-ringvorlesung-im-sommersemester-2020/mutterland-und-vatersprach
 e
END:VEVENT
BEGIN:VTIMEZONE
TZID:Europe/Berlin
X-LIC-LOCATION:Europe/Berlin
BEGIN:DAYLIGHT
DTSTART:20200329T030000
TZNAME:CEST
TZOFFSETFROM:+0100
TZOFFSETTO:+0200
END:DAYLIGHT
END:VTIMEZONE
END:VCALENDAR
