BEGIN:VCALENDAR
VERSION:2.0
PRODID:-//Plone.org//NONSGML plone.app.event//EN
X-WR-TIMEZONE:Europe/Berlin
BEGIN:VEVENT
SUMMARY:Rape revisited - Warum wir über sexualisierte Gewalt sprechen\, w
 ie wir darüber sprechen
DTSTART;TZID=Europe/Berlin:20200701T200000
DTEND;TZID=Europe/Berlin:20200701T220000
DTSTAMP:20260425T130321Z
UID:73a3a740a4af4f578784c5b09a6426b8@www.uni-marburg.de
ATTENDEE;CN="Dr. Mithu Sanyal";ROLE=REQ-PARTICIPANT:Dr. Mithu Sanyal
CREATED:20200316T182730Z
DESCRIPTION:https://www.uni-marburg.de/de/genderzukunft/aktuelles/termine/
 interdisziplinaere-ringvorlesung-im-sommersemester-2020/rape-revisited-war
 um-wir-ueber-sexualisierte-gewalt-sprechen-wie-wir-darueber-sprechen\nInte
 rdisziplinäre Ringvorlesung. FRAUEN und MACHT
LAST-MODIFIED:20200525T083053Z
LOCATION:Livestream über BigBlueButton
URL:https://www.uni-marburg.de/de/genderzukunft/aktuelles/termine/interdis
 ziplinaere-ringvorlesung-im-sommersemester-2020/rape-revisited-warum-wir-u
 eber-sexualisierte-gewalt-sprechen-wie-wir-darueber-sprechen
END:VEVENT
BEGIN:VTIMEZONE
TZID:Europe/Berlin
X-LIC-LOCATION:Europe/Berlin
BEGIN:DAYLIGHT
DTSTART:20200329T030000
TZNAME:CEST
TZOFFSETFROM:+0100
TZOFFSETTO:+0200
END:DAYLIGHT
END:VTIMEZONE
END:VCALENDAR
