BEGIN:VCALENDAR
VERSION:2.0
PRODID:-//Plone.org//NONSGML plone.app.event//EN
X-WR-TIMEZONE:Europe/Berlin
BEGIN:VEVENT
SUMMARY:Geschlecht und Macht: Kontroversen um eine feministische Zentralka
 tegorie
DTSTART;TZID=Europe/Berlin:20210616T200000
DTEND;TZID=Europe/Berlin:20210616T220000
DTSTAMP:20260419T185606Z
UID:9cdd38ace34c4edd82e9f70fd54a47a9@www.uni-marburg.de
ATTENDEE;CN="Dr. Gundula Ludwig (Universität Bremen/Politikwissenschaft)"
 ;ROLE=REQ-PARTICIPANT:Dr. Gundula Ludwig (Universität Bremen/Politikwisse
 nschaft)
ATTENDEE;CN="Prof. em. Dr. Ingrid Kurz-Scherf (Politikwissenschaft, Philip
 ps-Universität Marburg)";ROLE=REQ-PARTICIPANT:Prof. em. Dr. Ingrid Kurz-S
 cherf (Politikwissenschaft, Philipps-Universität Marburg)
CREATED:20210324T140931Z
DESCRIPTION:https://www.uni-marburg.de/de/genderzukunft/aktuelles/termine/
 ringvorlesung-2021-studium-generale/10-studium-generale\nStudium Generale 
 und interdisziplinäre Ringvorlesung: "Feminismen im Dialog"
LAST-MODIFIED:20230613T121808Z
LOCATION:Livestream über WebEx
URL:https://www.uni-marburg.de/de/genderzukunft/aktuelles/termine/ringvorl
 esung-2021-studium-generale/10-studium-generale
END:VEVENT
BEGIN:VTIMEZONE
TZID:Europe/Berlin
X-LIC-LOCATION:Europe/Berlin
BEGIN:DAYLIGHT
DTSTART:20210328T030000
TZNAME:CEST
TZOFFSETFROM:+0100
TZOFFSETTO:+0200
END:DAYLIGHT
END:VTIMEZONE
END:VCALENDAR
