BEGIN:VCALENDAR
VERSION:2.0
PRODID:-//Plone.org//NONSGML plone.app.event//EN
X-WR-TIMEZONE:Europe/Berlin
BEGIN:VEVENT
SUMMARY:Parenthood\, parental perceiptions\, and struggles among LGBTIQ+ i
 ndividuals
DTSTART;TZID=Europe/Berlin:20230622T180000
DTEND;TZID=Europe/Berlin:20230622T200000
DTSTAMP:20260426T001130Z
UID:3c2aac8ef8c94e16a50f0064792661b9@www.uni-marburg.de
ATTENDEE;CN="Landa Mabenge";ROLE=REQ-PARTICIPANT:Landa Mabenge
ATTENDEE;CN="Dr. Madeleine Muller";ROLE=REQ-PARTICIPANT:Dr. Madeleine Mull
 er
CREATED:20230123T140835Z
DESCRIPTION:https://www.uni-marburg.de/de/genderzukunft/aktuelles/termine/
 ringvorlesung-2023-de-and-reconstructing-lgbti-q-politics-in-a-postcolonia
 l-world201d/parenthood_among_lgbtiq_mabenge_muller\nRingvorlesung im Somme
 rsemester 2023 im Rahmen des Studienprogramms "Gender Studies und feminist
 ische Wissenschaft" mit Themenschwerpunkt\, unterschiedliche geographische
  Kontexte und Perspektiven auf LGBTI*Q-Politik in einer postkolonialen Wel
 t zu thematisieren.
LAST-MODIFIED:20230619T123701Z
LOCATION:online
URL:https://www.uni-marburg.de/de/genderzukunft/aktuelles/termine/ringvorl
 esung-2023-de-and-reconstructing-lgbti-q-politics-in-a-postcolonial-world2
 01d/parenthood_among_lgbtiq_mabenge_muller
END:VEVENT
BEGIN:VTIMEZONE
TZID:Europe/Berlin
X-LIC-LOCATION:Europe/Berlin
BEGIN:DAYLIGHT
DTSTART:20230326T030000
TZNAME:CEST
TZOFFSETFROM:+0100
TZOFFSETTO:+0200
END:DAYLIGHT
END:VTIMEZONE
END:VCALENDAR
