BEGIN:VCALENDAR
VERSION:2.0
PRODID:-//Plone.org//NONSGML plone.app.event//EN
X-WR-TIMEZONE:Europe/Berlin
BEGIN:VEVENT
SUMMARY:Verwobene Prekarisierungen und transversale Fluchten. Notizen zu T
 ransfeminität und Lohnarbeit im Postfordismus
DTSTART;TZID=Europe/Berlin:20230601T180000
DTEND;TZID=Europe/Berlin:20230601T200000
DTSTAMP:20260425T183951Z
UID:c4dd18c5aff54680bc63fcc5da9a17cd@www.uni-marburg.de
ATTENDEE;CN="Zoe* Steinsberger";ROLE=REQ-PARTICIPANT:Zoe* Steinsberger
CREATED:20230123T154744Z
DESCRIPTION:https://www.uni-marburg.de/de/genderzukunft/aktuelles/termine/
 ringvorlesung-2023-de-and-reconstructing-lgbti-q-politics-in-a-postcolonia
 l-world201d/trans_queer-und-klasse-zoe_steinsberger\nRingvorlesung im Somm
 ersemester 2023 im Rahmen des Studienprogramms "Gender Studies und feminis
 tische Wissenschaft" mit Themenschwerpunkt\, unterschiedliche geographisch
 e Kontexte und Perspektiven auf LGBTI*Q-Politik in einer postkolonialen We
 lt zu thematisieren.
LAST-MODIFIED:20230411T182003Z
LOCATION:201 (+2/0010)\, Biegenstrasse 12 & digital
URL:https://www.uni-marburg.de/de/genderzukunft/aktuelles/termine/ringvorl
 esung-2023-de-and-reconstructing-lgbti-q-politics-in-a-postcolonial-world2
 01d/trans_queer-und-klasse-zoe_steinsberger
END:VEVENT
BEGIN:VTIMEZONE
TZID:Europe/Berlin
X-LIC-LOCATION:Europe/Berlin
BEGIN:DAYLIGHT
DTSTART:20230326T030000
TZNAME:CEST
TZOFFSETFROM:+0100
TZOFFSETTO:+0200
END:DAYLIGHT
END:VTIMEZONE
END:VCALENDAR
