BEGIN:VCALENDAR
VERSION:2.0
PRODID:-//Plone.org//NONSGML plone.app.event//EN
X-WR-TIMEZONE:Europe/Berlin
BEGIN:VEVENT
SUMMARY:Wissenschafts- und Aktionstag #4GenderStudies
DTSTART;TZID=Europe/Berlin:20241218T100000
DTSTAMP:20260423T163830Z
UID:e12878ec0e1c45e59aa357a290b95037@www.uni-marburg.de
CREATED:20241209T103732Z
DESCRIPTION:https://www.uni-marburg.de/de/genderzukunft/aktuelles/termine/
 wissenschafts-und-aktionstag-4genderstudies\n
LAST-MODIFIED:20241209T103811Z
LOCATION:Ersatzhörsaal und online
URL:https://www.uni-marburg.de/de/genderzukunft/aktuelles/termine/wissensc
 hafts-und-aktionstag-4genderstudies
END:VEVENT
BEGIN:VTIMEZONE
TZID:Europe/Berlin
X-LIC-LOCATION:Europe/Berlin
BEGIN:STANDARD
DTSTART:20241027T020000
TZNAME:CET
TZOFFSETFROM:+0200
TZOFFSETTO:+0100
END:STANDARD
END:VTIMEZONE
END:VCALENDAR
