BEGIN:VCALENDAR
VERSION:2.0
PRODID:-//Plone.org//NONSGML plone.app.event//EN
X-WR-TIMEZONE:Europe/Berlin
BEGIN:VEVENT
SUMMARY:5. Marburger Weihnachtssingen
DTSTART;TZID=Europe/Berlin:20241207T170000
DTSTAMP:20260421T143832Z
UID:b6a42206df6c446fa978cdcdd6aea6f6@www.uni-marburg.de
CREATED:20241119T115158Z
DESCRIPTION:https://www.uni-marburg.de/de/hosting/unichor/konzerte-und-auf
 tritte/termine/5-adventssingen-der-stadt-marburg\n
LAST-MODIFIED:20241119T115951Z
LOCATION:Georg-Gaßmann-Stadion
URL:https://www.uni-marburg.de/de/hosting/unichor/konzerte-und-auftritte/t
 ermine/5-adventssingen-der-stadt-marburg
END:VEVENT
BEGIN:VTIMEZONE
TZID:Europe/Berlin
X-LIC-LOCATION:Europe/Berlin
BEGIN:STANDARD
DTSTART:20241027T020000
TZNAME:CET
TZOFFSETFROM:+0200
TZOFFSETTO:+0100
END:STANDARD
END:VTIMEZONE
END:VCALENDAR
