BEGIN:VCALENDAR
VERSION:2.0
PRODID:-//Plone.org//NONSGML plone.app.event//EN
X-WR-TIMEZONE:Europe/Berlin
BEGIN:VEVENT
SUMMARY:6. Marburger Weihnachtssingen
DTSTART;TZID=Europe/Berlin:20251206T170000
DTSTAMP:20260420T062907Z
UID:9fd76e9e65e14ab9a4a288a082038a6a@www.uni-marburg.de
CREATED:20251204T112708Z
DESCRIPTION:https://www.uni-marburg.de/de/hosting/unichor/konzerte-und-auf
 tritte/termine/6-marburger-weihnachtssingen\n
LAST-MODIFIED:20251204T112744Z
LOCATION:Georg-Gaßmann-Stadion
URL:https://www.uni-marburg.de/de/hosting/unichor/konzerte-und-auftritte/t
 ermine/6-marburger-weihnachtssingen
END:VEVENT
BEGIN:VTIMEZONE
TZID:Europe/Berlin
X-LIC-LOCATION:Europe/Berlin
BEGIN:STANDARD
DTSTART:20251026T020000
TZNAME:CET
TZOFFSETFROM:+0200
TZOFFSETTO:+0100
END:STANDARD
END:VTIMEZONE
END:VCALENDAR
