BEGIN:VCALENDAR
VERSION:2.0
PRODID:-//Plone.org//NONSGML plone.app.event//EN
X-WR-TIMEZONE:Europe/Berlin
BEGIN:VEVENT
SUMMARY:»Ach\, daß ich hören sollte« in Marburg
DTSTART;TZID=Europe/Berlin:20240210T230000
DTSTAMP:20260421T214945Z
UID:b30c69dfa0894e2d8ace133b5355e8cd@www.uni-marburg.de
CREATED:20240114T221108Z
DESCRIPTION:https://www.uni-marburg.de/de/hosting/unichor/konzerte-und-auf
 tritte/termine/ach-dass-ich-hoeren-sollte-in-marburg\nSemesterabschlusskon
 zert Wintersemester 2023/2024
LAST-MODIFIED:20240114T222345Z
LOCATION:Universitätskirche Marburg
URL:https://www.uni-marburg.de/de/hosting/unichor/konzerte-und-auftritte/t
 ermine/ach-dass-ich-hoeren-sollte-in-marburg
END:VEVENT
BEGIN:VTIMEZONE
TZID:Europe/Berlin
X-LIC-LOCATION:Europe/Berlin
BEGIN:STANDARD
DTSTART:20231029T020000
TZNAME:CET
TZOFFSETFROM:+0200
TZOFFSETTO:+0100
END:STANDARD
END:VTIMEZONE
END:VCALENDAR
