BEGIN:VCALENDAR
VERSION:2.0
PRODID:-//Plone.org//NONSGML plone.app.event//EN
X-WR-TIMEZONE:Europe/Berlin
BEGIN:VEVENT
SUMMARY:Auftritt auf dem Uni-Sommerfest
DTSTART;TZID=Europe/Berlin:20190525T140000
DTEND;TZID=Europe/Berlin:20190525T143000
DTSTAMP:20260420T121237Z
UID:b0c0c6966e784a0a84d4d77fedef2513@www.uni-marburg.de
CREATED:20190521T222544Z
DESCRIPTION:https://www.uni-marburg.de/de/hosting/unichor/konzerte-und-auf
 tritte/termine/auftritt-auf-dem-uni-sommerfest\n30 Minuten Unichor auf dem
  Sommerfest
LAST-MODIFIED:20190521T223053Z
LOCATION:Bühne am Collegium Philippinum
URL:https://www.uni-marburg.de/de/hosting/unichor/konzerte-und-auftritte/t
 ermine/auftritt-auf-dem-uni-sommerfest
END:VEVENT
BEGIN:VTIMEZONE
TZID:Europe/Berlin
X-LIC-LOCATION:Europe/Berlin
BEGIN:DAYLIGHT
DTSTART:20190331T030000
TZNAME:CEST
TZOFFSETFROM:+0100
TZOFFSETTO:+0200
END:DAYLIGHT
END:VTIMEZONE
END:VCALENDAR
