BEGIN:VCALENDAR
VERSION:2.0
PRODID:-//Plone.org//NONSGML plone.app.event//EN
X-WR-TIMEZONE:Europe/Berlin
BEGIN:VEVENT
SUMMARY:Auftritt zur "Halben Stunde"
DTSTART;TZID=Europe/Berlin:20241218T170000
DTSTAMP:20260420T093152Z
UID:bd87d96b0ef44137ba4b538510959ff5@www.uni-marburg.de
CREATED:20241119T121555Z
DESCRIPTION:https://www.uni-marburg.de/de/hosting/unichor/konzerte-und-auf
 tritte/termine/auftritt-zur-halben-stunde-1\nWeihnachtliche Chorklänge in
  der Elisabethkirche
LAST-MODIFIED:20241119T121753Z
LOCATION:Elisabethkirche Marburg
URL:https://www.uni-marburg.de/de/hosting/unichor/konzerte-und-auftritte/t
 ermine/auftritt-zur-halben-stunde-1
END:VEVENT
BEGIN:VTIMEZONE
TZID:Europe/Berlin
X-LIC-LOCATION:Europe/Berlin
BEGIN:STANDARD
DTSTART:20241027T020000
TZNAME:CET
TZOFFSETFROM:+0200
TZOFFSETTO:+0100
END:STANDARD
END:VTIMEZONE
END:VCALENDAR
