BEGIN:VCALENDAR
VERSION:2.0
PRODID:-//Plone.org//NONSGML plone.app.event//EN
X-WR-TIMEZONE:Europe/Berlin
BEGIN:VEVENT
SUMMARY:Auftritt zur "Halben Stunde"
DTSTART;TZID=Europe/Berlin:20251217T170000
DTSTAMP:20260423T125451Z
UID:b7e8596d8b6d4557af7748d242261431@www.uni-marburg.de
CREATED:20251204T111502Z
DESCRIPTION:https://www.uni-marburg.de/de/hosting/unichor/konzerte-und-auf
 tritte/termine/auftritt-zur-halben-stunde-2\nWeihnachtliche Chorklänge in
  der Elisabethkirche
LAST-MODIFIED:20251204T111613Z
LOCATION:Elisabethkirche Marburg
URL:https://www.uni-marburg.de/de/hosting/unichor/konzerte-und-auftritte/t
 ermine/auftritt-zur-halben-stunde-2
END:VEVENT
BEGIN:VTIMEZONE
TZID:Europe/Berlin
X-LIC-LOCATION:Europe/Berlin
BEGIN:STANDARD
DTSTART:20251026T020000
TZNAME:CET
TZOFFSETFROM:+0200
TZOFFSETTO:+0100
END:STANDARD
END:VTIMEZONE
END:VCALENDAR
