BEGIN:VCALENDAR
VERSION:2.0
PRODID:-//Plone.org//NONSGML plone.app.event//EN
X-WR-TIMEZONE:Europe/Berlin
BEGIN:VEVENT
SUMMARY:Semesterabschlusskonzert »Zwischen Menschen und Mächten« in Gie
 ßen
DTSTART;TZID=Europe/Berlin:20250725T200000
DTSTAMP:20260420T205618Z
UID:194757d2dbbd492cbd36beeaea4404fa@www.uni-marburg.de
CREATED:20240628T131632Z
DESCRIPTION:https://www.uni-marburg.de/de/hosting/unichor/konzerte-und-auf
 tritte/termine/copy2_of_into-the-sun-in-marburg\nSemesterabschlusskonzert 
 SoSe 2025 des Universitätschores Marburg
LAST-MODIFIED:20250721T112213Z
LOCATION:Johanneskirche Gießen
URL:https://www.uni-marburg.de/de/hosting/unichor/konzerte-und-auftritte/t
 ermine/copy2_of_into-the-sun-in-marburg
END:VEVENT
BEGIN:VTIMEZONE
TZID:Europe/Berlin
X-LIC-LOCATION:Europe/Berlin
BEGIN:DAYLIGHT
DTSTART:20250330T030000
TZNAME:CEST
TZOFFSETFROM:+0100
TZOFFSETTO:+0200
END:DAYLIGHT
END:VTIMEZONE
END:VCALENDAR
