BEGIN:VCALENDAR
VERSION:2.0
PRODID:-//Plone.org//NONSGML plone.app.event//EN
X-WR-TIMEZONE:Europe/Berlin
BEGIN:VEVENT
SUMMARY:»To be sung on the water«
DTSTART;TZID=Europe/Berlin:20180727T200000
DTEND;TZID=Europe/Berlin:20180727T213000
DTSTAMP:20260421T191230Z
UID:29dd60a2b3e94c86a407beb48768d039@www.uni-marburg.de
ATTENDEE;CN="Universitätschor Marburg";ROLE=REQ-PARTICIPANT:Universitäts
 chor Marburg
CREATED:20180330T182803Z
DESCRIPTION:https://www.uni-marburg.de/de/hosting/unichor/konzerte-und-auf
 tritte/termine/copy2_of_to-be-sung-on-the-water\nKonzert des Marburger Uni
 chors
LAST-MODIFIED:20180526T210226Z
LOCATION:Versöhnungskirche Dresden-Striesen
URL:https://www.uni-marburg.de/de/hosting/unichor/konzerte-und-auftritte/t
 ermine/copy2_of_to-be-sung-on-the-water
END:VEVENT
BEGIN:VTIMEZONE
TZID:Europe/Berlin
X-LIC-LOCATION:Europe/Berlin
BEGIN:DAYLIGHT
DTSTART:20180325T030000
TZNAME:CEST
TZOFFSETFROM:+0100
TZOFFSETTO:+0200
END:DAYLIGHT
END:VTIMEZONE
END:VCALENDAR
