BEGIN:VCALENDAR
VERSION:2.0
PRODID:-//Plone.org//NONSGML plone.app.event//EN
X-WR-TIMEZONE:Europe/Berlin
BEGIN:VEVENT
SUMMARY:Gottesdienst in der Frauenkirche
DTSTART;TZID=Europe/Berlin:20180729T110000
DTEND;TZID=Europe/Berlin:20180729T120000
DTSTAMP:20260421T003111Z
UID:1fdf7762364245a6a7a60f5aa08efe83@www.uni-marburg.de
ATTENDEE;CN="Universitätschor Marburg";ROLE=REQ-PARTICIPANT:Universitäts
 chor Marburg
CREATED:20180330T182803Z
DESCRIPTION:https://www.uni-marburg.de/de/hosting/unichor/konzerte-und-auf
 tritte/termine/copy5_of_to-be-sung-on-the-water\nDer Marburger Unichor ges
 taltet den Gottesdienst in der Dresdener Frauenkirche
LAST-MODIFIED:20180526T210937Z
LOCATION:Frauenkirche Dresden
URL:https://www.uni-marburg.de/de/hosting/unichor/konzerte-und-auftritte/t
 ermine/copy5_of_to-be-sung-on-the-water
END:VEVENT
BEGIN:VTIMEZONE
TZID:Europe/Berlin
X-LIC-LOCATION:Europe/Berlin
BEGIN:DAYLIGHT
DTSTART:20180325T030000
TZNAME:CEST
TZOFFSETFROM:+0100
TZOFFSETTO:+0200
END:DAYLIGHT
END:VTIMEZONE
END:VCALENDAR
