BEGIN:VCALENDAR
VERSION:2.0
PRODID:-//Plone.org//NONSGML plone.app.event//EN
X-WR-TIMEZONE:Europe/Berlin
BEGIN:VEVENT
SUMMARY:Semesterabschlusskonzert »Zwischen Menschen und Mächten« in Mar
 burg
DTSTART;TZID=Europe/Berlin:20250726T190000
DTSTAMP:20260421T091454Z
UID:d794d532d7b644369dbe22fbb0020ff5@www.uni-marburg.de
CREATED:20240628T131632Z
DESCRIPTION:https://www.uni-marburg.de/de/hosting/unichor/konzerte-und-auf
 tritte/termine/copy_of_into-the-sun-in-marburg\nSemesterabschlusskonzert S
 oSe 2025 des Universitätschores Marburg
LAST-MODIFIED:20250721T112241Z
LOCATION:Universitätskirche Marburg
URL:https://www.uni-marburg.de/de/hosting/unichor/konzerte-und-auftritte/t
 ermine/copy_of_into-the-sun-in-marburg
END:VEVENT
BEGIN:VTIMEZONE
TZID:Europe/Berlin
X-LIC-LOCATION:Europe/Berlin
BEGIN:DAYLIGHT
DTSTART:20250330T030000
TZNAME:CEST
TZOFFSETFROM:+0100
TZOFFSETTO:+0200
END:DAYLIGHT
END:VTIMEZONE
END:VCALENDAR
