BEGIN:VCALENDAR
VERSION:2.0
PRODID:-//Plone.org//NONSGML plone.app.event//EN
X-WR-TIMEZONE:Europe/Berlin
BEGIN:VEVENT
SUMMARY:»To be sung on the water«
DTSTART;TZID=Europe/Berlin:20180713T200000
DTEND;TZID=Europe/Berlin:20180713T213000
DTSTAMP:20260420T230728Z
UID:c2f270f574304adab95c0cb2762b0fb6@www.uni-marburg.de
ATTENDEE;CN="Universitätschor Marburg";ROLE=REQ-PARTICIPANT:Universitäts
 chor Marburg
CREATED:20180330T182803Z
DESCRIPTION:https://www.uni-marburg.de/de/hosting/unichor/konzerte-und-auf
 tritte/termine/copy_of_to-be-sung-on-the-water\nSemesterabschlusskonzert d
 es Marburger Unichors
LAST-MODIFIED:20180515T083556Z
LOCATION:Johanneskirche Gießen
URL:https://www.uni-marburg.de/de/hosting/unichor/konzerte-und-auftritte/t
 ermine/copy_of_to-be-sung-on-the-water
END:VEVENT
BEGIN:VTIMEZONE
TZID:Europe/Berlin
X-LIC-LOCATION:Europe/Berlin
BEGIN:DAYLIGHT
DTSTART:20180325T030000
TZNAME:CEST
TZOFFSETFROM:+0100
TZOFFSETTO:+0200
END:DAYLIGHT
END:VTIMEZONE
END:VCALENDAR
