BEGIN:VCALENDAR
VERSION:2.0
PRODID:-//Plone.org//NONSGML plone.app.event//EN
X-WR-TIMEZONE:Europe/Berlin
BEGIN:VEVENT
SUMMARY:Der Unichor sucht neue Sänger♪innen!
DTSTART;VALUE=DATE:20231016
DTEND;VALUE=DATE:20231018
DTSTAMP:20260422T025511Z
UID:4c7e6ee810df400ba15c8d99d0e5eaf6@www.uni-marburg.de
CREATED:20230802T115143Z
DESCRIPTION:https://www.uni-marburg.de/de/hosting/unichor/konzerte-und-auf
 tritte/termine/der-unichor-sucht-neue-saenger266ainnen-1\nVorsingen des Un
 iversitätschor Marburg e.V.
LAST-MODIFIED:20230815T102258Z
LOCATION:Musizierhaus\, Alter Botanischer Garten\, Marburg
URL:https://www.uni-marburg.de/de/hosting/unichor/konzerte-und-auftritte/t
 ermine/der-unichor-sucht-neue-saenger266ainnen-1
END:VEVENT
END:VCALENDAR
