BEGIN:VCALENDAR
VERSION:2.0
PRODID:-//Plone.org//NONSGML plone.app.event//EN
X-WR-TIMEZONE:Europe/Berlin
BEGIN:VEVENT
SUMMARY:Der Unichor sucht neue Sänger♪innen!
DTSTART;TZID=Europe/Berlin:20221017T140000
DTEND;TZID=Europe/Berlin:20221017T180000
DTSTAMP:20260421T024536Z
UID:99e79ce117d44b7f98c65f4fbfa62373@www.uni-marburg.de
RRULE:FREQ=DAILY;COUNT=2
CREATED:20190922T111241Z
DESCRIPTION:https://www.uni-marburg.de/de/hosting/unichor/konzerte-und-auf
 tritte/termine/der-unichor-sucht-neue-saenger_innen\nVorsingen des Univers
 itätschor Marburg e.V.
LAST-MODIFIED:20221004T185134Z
LOCATION:Musizierhaus\, Alter Botanischer Garten
URL:https://www.uni-marburg.de/de/hosting/unichor/konzerte-und-auftritte/t
 ermine/der-unichor-sucht-neue-saenger_innen
END:VEVENT
BEGIN:VTIMEZONE
TZID:Europe/Berlin
X-LIC-LOCATION:Europe/Berlin
BEGIN:DAYLIGHT
DTSTART:20220327T030000
TZNAME:CEST
TZOFFSETFROM:+0100
TZOFFSETTO:+0200
END:DAYLIGHT
END:VTIMEZONE
END:VCALENDAR
