BEGIN:VCALENDAR
VERSION:2.0
PRODID:-//Plone.org//NONSGML plone.app.event//EN
X-WR-TIMEZONE:Europe/Berlin
BEGIN:VEVENT
SUMMARY:Der Unichor sucht neue Sänger♪innen!
DTSTART;TZID=Europe/Berlin:20240415T140000
DTEND;TZID=Europe/Berlin:20240415T180000
DTSTAMP:20260420T214704Z
UID:86efc308f0af4655aed7f7be688e7ed5@www.uni-marburg.de
RRULE:FREQ=DAILY;UNTIL=20240416T000000
CREATED:20240326T114926Z
DESCRIPTION:https://www.uni-marburg.de/de/hosting/unichor/konzerte-und-auf
 tritte/termine/der-unichor-sucht-neue-saengerinnen\nVorsingen des Universi
 tätschor Marburg e.V.
LAST-MODIFIED:20240402T100716Z
LOCATION:Musizierhaus | Alter Botanischer Garten Marburg
URL:https://www.uni-marburg.de/de/hosting/unichor/konzerte-und-auftritte/t
 ermine/der-unichor-sucht-neue-saengerinnen
END:VEVENT
BEGIN:VTIMEZONE
TZID:Europe/Berlin
X-LIC-LOCATION:Europe/Berlin
BEGIN:DAYLIGHT
DTSTART:20240331T030000
TZNAME:CEST
TZOFFSETFROM:+0100
TZOFFSETTO:+0200
END:DAYLIGHT
END:VTIMEZONE
END:VCALENDAR
