BEGIN:VCALENDAR
VERSION:2.0
PRODID:-//Plone.org//NONSGML plone.app.event//EN
X-WR-TIMEZONE:Europe/Berlin
BEGIN:VEVENT
SUMMARY:Gottesdienst in der Unikirche Marburg
DTSTART;TZID=Europe/Berlin:20241120T180000
DTSTAMP:20260421T101305Z
UID:0aa720fbcf56401d913f93d6a8f964f9@www.uni-marburg.de
CREATED:20241119T113827Z
DESCRIPTION:https://www.uni-marburg.de/de/hosting/unichor/konzerte-und-auf
 tritte/termine/gottesdienst-in-der-unikirche-marburg\n
LAST-MODIFIED:20241119T114936Z
LOCATION:Universitätskirche Marburg | Reitgasse 2\, 35037 Marburg
URL:https://www.uni-marburg.de/de/hosting/unichor/konzerte-und-auftritte/t
 ermine/gottesdienst-in-der-unikirche-marburg
END:VEVENT
BEGIN:VTIMEZONE
TZID:Europe/Berlin
X-LIC-LOCATION:Europe/Berlin
BEGIN:STANDARD
DTSTART:20241027T020000
TZNAME:CET
TZOFFSETFROM:+0200
TZOFFSETTO:+0100
END:STANDARD
END:VTIMEZONE
END:VCALENDAR
