BEGIN:VCALENDAR
VERSION:2.0
PRODID:-//Plone.org//NONSGML plone.app.event//EN
X-WR-TIMEZONE:Europe/Berlin
BEGIN:VEVENT
SUMMARY:»Into the sun« in Marburg
DTSTART;TZID=Europe/Berlin:20240713T190000
DTSTAMP:20260420T063535Z
UID:323346f330cb4e63a84434121b0b14ca@www.uni-marburg.de
CREATED:20240628T131632Z
DESCRIPTION:https://www.uni-marburg.de/de/hosting/unichor/konzerte-und-auf
 tritte/termine/into-the-sun-in-marburg\nSemesterabschlusskonzerte Sose 202
 4
LAST-MODIFIED:20240628T132118Z
LOCATION:Universitätskirche Marburg
URL:https://www.uni-marburg.de/de/hosting/unichor/konzerte-und-auftritte/t
 ermine/into-the-sun-in-marburg
END:VEVENT
BEGIN:VTIMEZONE
TZID:Europe/Berlin
X-LIC-LOCATION:Europe/Berlin
BEGIN:DAYLIGHT
DTSTART:20240331T030000
TZNAME:CEST
TZOFFSETFROM:+0100
TZOFFSETTO:+0200
END:DAYLIGHT
END:VTIMEZONE
END:VCALENDAR
