BEGIN:VCALENDAR
VERSION:2.0
PRODID:-//Plone.org//NONSGML plone.app.event//EN
X-WR-TIMEZONE:Europe/Berlin
BEGIN:VEVENT
SUMMARY:Musikalische Gestaltung des Universitätsgottesdienstes
DTSTART;TZID=Europe/Berlin:20200126T110000
DTEND;TZID=Europe/Berlin:20200126T121500
DTSTAMP:20260421T231338Z
UID:78563233baf84ef194c842263331f4b9@www.uni-marburg.de
CREATED:20191208T123721Z
DESCRIPTION:https://www.uni-marburg.de/de/hosting/unichor/konzerte-und-auf
 tritte/termine/musikalische-gestaltung-des-gottesdienstes\n
LAST-MODIFIED:20191208T123823Z
LOCATION:Universitätskirche Marburg
URL:https://www.uni-marburg.de/de/hosting/unichor/konzerte-und-auftritte/t
 ermine/musikalische-gestaltung-des-gottesdienstes
END:VEVENT
BEGIN:VTIMEZONE
TZID:Europe/Berlin
X-LIC-LOCATION:Europe/Berlin
BEGIN:STANDARD
DTSTART:20191027T020000
TZNAME:CET
TZOFFSETFROM:+0200
TZOFFSETTO:+0100
END:STANDARD
END:VTIMEZONE
END:VCALENDAR
