BEGIN:VCALENDAR
VERSION:2.0
PRODID:-//Plone.org//NONSGML plone.app.event//EN
X-WR-TIMEZONE:Europe/Berlin
BEGIN:VEVENT
SUMMARY:»Im Freien zu singen« III
DTSTART;TZID=Europe/Berlin:20210717T180000
DTEND;TZID=Europe/Berlin:20210717T184500
DTSTAMP:20260420T112637Z
UID:0e3cb9fb5f4149d2aa46120ff0cce6d8@www.uni-marburg.de
CREATED:20190521T211538Z
DESCRIPTION:https://www.uni-marburg.de/de/hosting/unichor/konzerte-und-auf
 tritte/termine/sommerkonzert-marburg-iii\nKonzert durch Feld\, Wald und Wi
 esen im Sommer 2021
LAST-MODIFIED:20210630T130821Z
LOCATION:Elisabethkirche Marburg
URL:https://www.uni-marburg.de/de/hosting/unichor/konzerte-und-auftritte/t
 ermine/sommerkonzert-marburg-iii
END:VEVENT
BEGIN:VTIMEZONE
TZID:Europe/Berlin
X-LIC-LOCATION:Europe/Berlin
BEGIN:DAYLIGHT
DTSTART:20210328T030000
TZNAME:CEST
TZOFFSETFROM:+0100
TZOFFSETTO:+0200
END:DAYLIGHT
END:VTIMEZONE
END:VCALENDAR
