BEGIN:VCALENDAR
VERSION:2.0
PRODID:-//Plone.org//NONSGML plone.app.event//EN
X-WR-TIMEZONE:Europe/Berlin
BEGIN:VEVENT
SUMMARY:»To be sung on the water«
DTSTART;TZID=Europe/Berlin:20180714T200000
DTEND;TZID=Europe/Berlin:20180714T213000
DTSTAMP:20260420T130133Z
UID:cff641479e9a4fdcab69b7f5d5ce43a0@www.uni-marburg.de
ATTENDEE;CN="Universitätschor Marburg";ROLE=REQ-PARTICIPANT:Universitäts
 chor Marburg
CREATED:20180330T182803Z
DESCRIPTION:https://www.uni-marburg.de/de/hosting/unichor/konzerte-und-auf
 tritte/termine/to-be-sung-on-the-water\nSemesterabschlusskonzert des Unich
 ors
LAST-MODIFIED:20180515T075625Z
LOCATION:Elisabethkirche Marburg
URL:https://www.uni-marburg.de/de/hosting/unichor/konzerte-und-auftritte/t
 ermine/to-be-sung-on-the-water
END:VEVENT
BEGIN:VTIMEZONE
TZID:Europe/Berlin
X-LIC-LOCATION:Europe/Berlin
BEGIN:DAYLIGHT
DTSTART:20180325T030000
TZNAME:CEST
TZOFFSETFROM:+0100
TZOFFSETTO:+0200
END:DAYLIGHT
END:VTIMEZONE
END:VCALENDAR
