BEGIN:VCALENDAR
VERSION:2.0
PRODID:-//Plone.org//NONSGML plone.app.event//EN
X-WR-TIMEZONE:Europe/Berlin
BEGIN:VEVENT
SUMMARY:CMS-Schulung
DTSTART;TZID=Europe/Berlin:20231214T090000
DTEND;TZID=Europe/Berlin:20231214T100000
DTSTAMP:20260424T102145Z
UID:123832b367ab4966861b91a0985790e8@www.uni-marburg.de
ATTENDEE;CN="Svenja Grotefend";ROLE=REQ-PARTICIPANT:Svenja Grotefend
CREATED:20191014T065104Z
DESCRIPTION:https://www.uni-marburg.de/de/hrz/dienste/web-auftritt/schulun
 gstermine-neuigkeiten/termine/2023/cms-schulung-14-12-23\nEinführung in d
 as Content-Management-System der Philipps-Universität Marburg. Der Kurs v
 ermittelt die Befähigung zur selbstständigen Erstellung und Pflege von W
 eb-Inhalten.
LAST-MODIFIED:20231121T132043Z
LOCATION:Online: BigBlueButton
URL:https://www.uni-marburg.de/de/hrz/dienste/web-auftritt/schulungstermin
 e-neuigkeiten/termine/2023/cms-schulung-14-12-23
END:VEVENT
BEGIN:VTIMEZONE
TZID:Europe/Berlin
X-LIC-LOCATION:Europe/Berlin
BEGIN:STANDARD
DTSTART:20231029T020000
TZNAME:CET
TZOFFSETFROM:+0200
TZOFFSETTO:+0100
END:STANDARD
END:VTIMEZONE
END:VCALENDAR
