BEGIN:VCALENDAR
VERSION:2.0
PRODID:-//Plone.org//NONSGML plone.app.event//EN
X-WR-TIMEZONE:Europe/Berlin
BEGIN:VEVENT
SUMMARY:"Aus der Praxis des Generalbundesanwalts: Der Völkermord an den J
 esid*innen und die deutsche Justiz"  Gastvortrag Dr. Stephanie Egerer-Uhri
 g
DTSTART;TZID=Europe/Berlin:20221025T190000
DTEND;TZID=Europe/Berlin:20221025T210000
DTSTAMP:20260425T214613Z
UID:2fc4e4a0909e44a68049b1022de74432@www.uni-marburg.de
ATTENDEE;CN="Frau Dr. Stephanie Egerer-Uhrig";ROLE=REQ-PARTICIPANT:Frau Dr
 . Stephanie Egerer-Uhrig
CREATED:20221019T145951Z
DESCRIPTION:https://www.uni-marburg.de/de/icwc/aktuelles/termine-1/aus-der
 -praxis-des-generalbundesanwalts-der-voelkermord-an-den-jesid-innen-und-di
 e-deutsche-justiz-gastvortrag-dr-stephanie-egerer-uhrig\n
LAST-MODIFIED:20221019T150125Z
LOCATION:Landgrafenhaus LH 204
URL:https://www.uni-marburg.de/de/icwc/aktuelles/termine-1/aus-der-praxis-
 des-generalbundesanwalts-der-voelkermord-an-den-jesid-innen-und-die-deutsc
 he-justiz-gastvortrag-dr-stephanie-egerer-uhrig
END:VEVENT
BEGIN:VTIMEZONE
TZID:Europe/Berlin
X-LIC-LOCATION:Europe/Berlin
BEGIN:DAYLIGHT
DTSTART:20220327T030000
TZNAME:CEST
TZOFFSETFROM:+0100
TZOFFSETTO:+0200
END:DAYLIGHT
END:VTIMEZONE
END:VCALENDAR
