BEGIN:VCALENDAR
VERSION:2.0
PRODID:-//Plone.org//NONSGML plone.app.event//EN
X-WR-TIMEZONE:Europe/Berlin
BEGIN:VEVENT
SUMMARY:Drittes Monatskolloquium 2022 - "Law\, Order and Purge in the Gran
 d Duchy of Luxembourg" - Dr. Elisabeth Wingerter
DTSTART;TZID=Europe/Berlin:20220518T160000
DTEND;TZID=Europe/Berlin:20220518T180000
DTSTAMP:20260426T053100Z
UID:93576abc2f594efbacad61c512cd6b3e@www.uni-marburg.de
ATTENDEE;CN="Dr. Elisabeth Wingerter";ROLE=REQ-PARTICIPANT:Dr. Elisabeth W
 ingerter
CREATED:20220504T133610Z
DESCRIPTION:https://www.uni-marburg.de/de/icwc/aktuelles/termine-1/drittes
 -monatskolloquium-2022-law-order-and-purge-in-the-grand-duchy-of-luxembour
 g-dr-elisabeth-wingerter\n
LAST-MODIFIED:20220504T134527Z
LOCATION:Raum +3/0210 Savignyhaus\; Universitätsstraße 6
URL:https://www.uni-marburg.de/de/icwc/aktuelles/termine-1/drittes-monatsk
 olloquium-2022-law-order-and-purge-in-the-grand-duchy-of-luxembourg-dr-eli
 sabeth-wingerter
END:VEVENT
BEGIN:VTIMEZONE
TZID:Europe/Berlin
X-LIC-LOCATION:Europe/Berlin
BEGIN:DAYLIGHT
DTSTART:20220327T030000
TZNAME:CEST
TZOFFSETFROM:+0100
TZOFFSETTO:+0200
END:DAYLIGHT
END:VTIMEZONE
END:VCALENDAR
