BEGIN:VCALENDAR
VERSION:2.0
PRODID:-//Plone.org//NONSGML plone.app.event//EN
X-WR-TIMEZONE:Europe/Berlin
BEGIN:VEVENT
SUMMARY:ICWC Jahresfeier 2022 + 13. Marburger Vorlesung zum Völkerstrafre
 cht
DTSTART;TZID=Europe/Berlin:20220602T180000
DTEND;TZID=Europe/Berlin:20220602T210000
DTSTAMP:20260425T001600Z
UID:da22a14f98654bcb85223c69c1de2d79@www.uni-marburg.de
ATTENDEE;CN="Prof. Mark A. Drumbl";ROLE=REQ-PARTICIPANT:Prof. Mark A. Drum
 bl
CREATED:20220513T090257Z
DESCRIPTION:https://www.uni-marburg.de/de/icwc/aktuelles/termine-1/icwc-ja
 hresfeier-2022-13-marburger-vorlesung-zum-voelkerstrafrecht\nDas ICWC läd
 t alle Interessierten am 02. Juni 2022 um 18 Uhr c.t. zu seiner Jahresfeie
 r ein. Zum 13. Mal findet in diesem Zusammenhang auch die Marburger Vorles
 ung zum Völkerstrafrecht statt.
LAST-MODIFIED:20220519T074615Z
LOCATION:Aula der Alten Universität\, Lahntor 3\, Philipps-Universität M
 arburg
URL:https://www.uni-marburg.de/de/icwc/aktuelles/termine-1/icwc-jahresfeie
 r-2022-13-marburger-vorlesung-zum-voelkerstrafrecht
END:VEVENT
BEGIN:VTIMEZONE
TZID:Europe/Berlin
X-LIC-LOCATION:Europe/Berlin
BEGIN:DAYLIGHT
DTSTART:20220327T030000
TZNAME:CEST
TZOFFSETFROM:+0100
TZOFFSETTO:+0200
END:DAYLIGHT
END:VTIMEZONE
END:VCALENDAR
