BEGIN:VCALENDAR
VERSION:2.0
PRODID:-//Plone.org//NONSGML plone.app.event//EN
X-WR-TIMEZONE:Europe/Berlin
BEGIN:VEVENT
SUMMARY:35. Postgraduate Course of Victimology\, Victim Assistance and Cri
 minal Justice
DTSTART;VALUE=DATE:20190520
DTEND;VALUE=DATE:20190602
DTSTAMP:20260424T224542Z
UID:9566a7fc22aa4fd19deec5bf7f2a7eb0@www.uni-marburg.de
ATTENDEE;CN="Course Directors:";ROLE=REQ-PARTICIPANT:Course Directors:
ATTENDEE;CN="Chadley James, California State University, Fresno, United St
 ates";ROLE=REQ-PARTICIPANT:Chadley James, California State University, Fre
 sno, United States
ATTENDEE;CN="Elmar G. M. Weitekamp, University of Tübingen, Germany";ROLE
 =REQ-PARTICIPANT:Elmar G. M. Weitekamp, University of Tübingen, Germany
ATTENDEE;CN="Zvonimir Paul Šeparović, University of Zagreb, Croatia";ROL
 E=REQ-PARTICIPANT:Zvonimir Paul Šeparović, University of Zagreb, Croatia
ATTENDEE;CN="Dick Daniel Taver`Shima Andzenge, St. Cloud State University,
  Minnesota, United States";ROLE=REQ-PARTICIPANT:Dick Daniel Taver`Shima An
 dzenge, St. Cloud State University, Minnesota, United States
ATTENDEE;CN="Gerd Ferdinand Kirchhoff, O P Jindal Global University, India
 ";ROLE=REQ-PARTICIPANT:Gerd Ferdinand Kirchhoff, O P Jindal Global Univers
 ity, India
ATTENDEE;CN=;ROLE=REQ-PARTICIPANT:
ATTENDEE;CN="Darüber hinaus werden zahlreiche weitere Experten auf der Ko
 nferenz referieren.";ROLE=REQ-PARTICIPANT:Darüber hinaus werden zahlreich
 e weitere Experten auf der Konferenz referieren.
CREATED:20190311T145101Z
DESCRIPTION:https://www.uni-marburg.de/de/icwc/aktuelles/termine/35-postgr
 aduate-course-of-victimology-victim-assistance-and-criminal-justice\nDas I
 CWC unterstützt erneut die Teilnahme am 35. Postgraduate Course of Victim
 ology\, Victim Assistance and Criminal Justice in Dubrovnik\, Kroatien.
LAST-MODIFIED:20190326T074638Z
LOCATION:Dubrovnik\, Kroatien
URL:https://www.uni-marburg.de/de/icwc/aktuelles/termine/35-postgraduate-c
 ourse-of-victimology-victim-assistance-and-criminal-justice
END:VEVENT
END:VCALENDAR
