BEGIN:VCALENDAR
VERSION:2.0
PRODID:-//Plone.org//NONSGML plone.app.event//EN
X-WR-TIMEZONE:Europe/Berlin
BEGIN:VEVENT
SUMMARY:ICWC Monatskolloquium mit Philipp Polta zum Thema "Geschlechterrol
 lenstereotype Wahrnehmungsfilter in Gerichtsprozessen zu rechter Gewalt un
 d Rechtsterrorismus"
DTSTART;TZID=Europe/Berlin:20251210T160000
DTEND;TZID=Europe/Berlin:20251210T180000
DTSTAMP:20260423T005723Z
UID:2150171cb7d143fb9afbb7afa541eb89@www.uni-marburg.de
ATTENDEE;CN="Philipp Polta";ROLE=REQ-PARTICIPANT:Philipp Polta
CATEGORIES:()
CREATED:20250414T094913Z
DESCRIPTION:https://www.uni-marburg.de/de/icwc/aktuelles/termine/copy2_of_
 icwc-monatskolloquium-1\n
LAST-MODIFIED:20251208T083423Z
LOCATION:Raum 101 im DSA-Gebäude\, Pilgrimstein 16
URL:https://www.uni-marburg.de/de/icwc/aktuelles/termine/copy2_of_icwc-mon
 atskolloquium-1
END:VEVENT
BEGIN:VTIMEZONE
TZID:Europe/Berlin
X-LIC-LOCATION:Europe/Berlin
BEGIN:STANDARD
DTSTART:20251026T020000
TZNAME:CET
TZOFFSETFROM:+0200
TZOFFSETTO:+0100
END:STANDARD
END:VTIMEZONE
END:VCALENDAR
