BEGIN:VCALENDAR
VERSION:2.0
PRODID:-//Plone.org//NONSGML plone.app.event//EN
X-WR-TIMEZONE:Europe/Berlin
BEGIN:VEVENT
SUMMARY:ICWC Monatskolloquium mit Anja Schmidt-Kleinert
DTSTART;TZID=Europe/Berlin:20260114T160000
DTEND;TZID=Europe/Berlin:20260114T180000
DTSTAMP:20260423T005719Z
UID:2cfe800c3f444c02bc11c07bd5849f97@www.uni-marburg.de
ATTENDEE;CN="Anja Schmidt-Kleinert";ROLE=REQ-PARTICIPANT:Anja Schmidt-Klei
 nert
CATEGORIES:()
CREATED:20250414T094913Z
DESCRIPTION:https://www.uni-marburg.de/de/icwc/aktuelles/termine/copy3_of_
 icwc-monatskolloquium-1\n
LAST-MODIFIED:20260106T145727Z
LOCATION:Raum 101 im DSA-Gebäude\, Pilgrimstein 16
URL:https://www.uni-marburg.de/de/icwc/aktuelles/termine/copy3_of_icwc-mon
 atskolloquium-1
END:VEVENT
BEGIN:VTIMEZONE
TZID:Europe/Berlin
X-LIC-LOCATION:Europe/Berlin
BEGIN:STANDARD
DTSTART:20251026T020000
TZNAME:CET
TZOFFSETFROM:+0200
TZOFFSETTO:+0100
END:STANDARD
END:VTIMEZONE
END:VCALENDAR
