BEGIN:VCALENDAR
VERSION:2.0
PRODID:-//Plone.org//NONSGML plone.app.event//EN
X-WR-TIMEZONE:Europe/Berlin
BEGIN:VEVENT
SUMMARY:ICWC Monatskolloquium "On pluriversality and governance: lessons f
 rom Colombia" ENTFÄLLT
DTSTART;TZID=Europe/Berlin:20251126T160000
DTEND;TZID=Europe/Berlin:20251126T180000
DTSTAMP:20260423T005721Z
UID:846341b6698040cfbcffdda9044be43a@www.uni-marburg.de
ATTENDEE;CN="María Cárdenas Alfonso";ROLE=REQ-PARTICIPANT:María Cárden
 as Alfonso
CATEGORIES:()
CREATED:20250414T094913Z
DESCRIPTION:https://www.uni-marburg.de/de/icwc/aktuelles/termine/copy_of_i
 cwc-monatskolloquium-1\n
LAST-MODIFIED:20251125T125330Z
LOCATION:Raum 101 im DSA-Gebäude\, Pilgrimstein 16
URL:https://www.uni-marburg.de/de/icwc/aktuelles/termine/copy_of_icwc-mona
 tskolloquium-1
END:VEVENT
BEGIN:VTIMEZONE
TZID:Europe/Berlin
X-LIC-LOCATION:Europe/Berlin
BEGIN:STANDARD
DTSTART:20251026T020000
TZNAME:CET
TZOFFSETFROM:+0200
TZOFFSETTO:+0100
END:STANDARD
END:VTIMEZONE
END:VCALENDAR
