BEGIN:VCALENDAR
VERSION:2.0
PRODID:-//Plone.org//NONSGML plone.app.event//EN
X-WR-TIMEZONE:Europe/Berlin
BEGIN:VEVENT
SUMMARY:Filmvorführung "The White Line"
DTSTART;TZID=Europe/Berlin:20200306T193000
DTEND;TZID=Europe/Berlin:20200306T220000
DTSTAMP:20260423T070102Z
UID:aef60062f6894b1395d7ab302fa74750@www.uni-marburg.de
CREATED:20200302T094419Z
DESCRIPTION:https://www.uni-marburg.de/de/icwc/aktuelles/termine/filmvorfu
 ehrung-the-white-line-1\nAufgrund der technischen Probleme bei der Europap
 remiere am 28.02. wird der Fim "The White Line" am 06.03.2020 um 19:30 Uhr
  nochmals im Capitol gezeigt. \nAlle für die Vorstellung am 28.02. gekauf
 ten Karten sind auch am 06.03. gültig.
LAST-MODIFIED:20200302T095556Z
LOCATION:Capitol Marburg
URL:https://www.uni-marburg.de/de/icwc/aktuelles/termine/filmvorfuehrung-t
 he-white-line-1
END:VEVENT
BEGIN:VTIMEZONE
TZID:Europe/Berlin
X-LIC-LOCATION:Europe/Berlin
BEGIN:STANDARD
DTSTART:20191027T020000
TZNAME:CET
TZOFFSETFROM:+0200
TZOFFSETTO:+0100
END:STANDARD
END:VTIMEZONE
END:VCALENDAR
